BEGIN:VCALENDAR
VERSION:2.0
PRODID:-//ChamberMaster//Event Calendar 2.0//EN
METHOD:PUBLISH
X-PUBLISHED-TTL:P3D
REFRESH-INTERVAL:P3D
CALSCALE:GREGORIAN
BEGIN:VEVENT
DTSTART:20190521T130000Z
DTEND:20190521T150000Z
X-MICROSOFT-CDO-ALLDAYEVENT:FALSE
SUMMARY:EXIT SMART
DESCRIPTION:Successfully exit your business on your own terms through careful succession planning.
X-ALT-DESC;FMTTYPE=text/html:Successfully exit your business on your own terms through careful succession planning.
LOCATION:South County Library 6303 Merriman Road Roanoke\, VA 24018
UID:e.1293.15533
SEQUENCE:3
DTSTAMP:20260424T162847Z
URL:http://roanokechamber.chambermaster.com/events/details/exit-smart-15533
END:VEVENT

END:VCALENDAR
