BEGIN:VCALENDAR
VERSION:2.0
PRODID:-//ChamberMaster//Event Calendar 2.0//EN
METHOD:PUBLISH
X-PUBLISHED-TTL:P3D
REFRESH-INTERVAL:P3D
CALSCALE:GREGORIAN
BEGIN:VEVENT
DTSTART:20181025T220000Z
DTEND:20181025T233000Z
X-MICROSOFT-CDO-ALLDAYEVENT:FALSE
SUMMARY:MakerSpace Pop-Up Event
DESCRIPTION:MakerSpace Pop-Up Event\n			\n		\n		\n			\n			Thursday\, October 25\, 6 pm\n\n			\n			\n				\n					\n						 \n						Eleanor D. Wilson Museum\, Richard Wetherill Visual Arts Center\n					\n				\n			\n			\n\n			\n			Quilting 101\n\n			Led by the Star Quilters Guild\, Roanoke\n\n			*Free and open to the community*\n\n			Museum MakerSpace provides all the materials you need to learn a new creative craft skill! No previous experience necessary.
X-ALT-DESC;FMTTYPE=text/html:<table border="0" cellpadding="0" cellspacing="0" class="twTable" style="color:rgb(0\, 0\, 0)\; font-family:helvetica\,arial\,sans-serif\; font-size:13.3333px\; line-height:1.4em\; width:715.2px">\n	<tbody>\n		<tr>\n			<td colspan="2">\n			<div>MakerSpace Pop-Up Event</div>\n			</td>\n		</tr>\n		<tr>\n			<td colspan="2" style="width:715.2px">\n			<div>Thursday\, October 25\, 6 pm</div>\n\n			<div>\n			<table border="0" cellpadding="0" cellspacing="0" style="line-height:1.4em">\n				<tbody>\n					<tr>\n						<th style="text-align:left">&nbsp\;</th>\n						<td>Eleanor D. Wilson Museum\, Richard Wetherill Visual Arts Center</td>\n					</tr>\n				</tbody>\n			</table>\n			</div>\n\n			<div>\n			<p>Quilting 101<br />\n			Led by the Star Quilters Guild\, Roanoke</p>\n\n			<p>*Free and open to the community*<br />\n			Museum MakerSpace provides all the materials you need to learn a new creative craft skill! No previous experience necessary.</p>\n			</div>\n			</td>\n		</tr>\n	</tbody>\n</table>\n
LOCATION:
UID:e.1293.15212
SEQUENCE:3
DTSTAMP:20260420T182935Z
URL:http://roanokechamber.chambermaster.com/events/details/makerspace-pop-up-event-15212
END:VEVENT

END:VCALENDAR
