BEGIN:VCALENDAR
VERSION:2.0
PRODID:-//ChamberMaster//Event Calendar 2.0//EN
METHOD:PUBLISH
X-PUBLISHED-TTL:P3D
REFRESH-INTERVAL:P3D
CALSCALE:GREGORIAN
BEGIN:VEVENT
DTSTART:20181112T003000Z
DTEND:20181112T020000Z
X-MICROSOFT-CDO-ALLDAYEVENT:FALSE
SUMMARY:Opera Scenes Workshop
DESCRIPTION:Opera Scenes Workshop\n			\n		\n		\n			\n			Sunday\, November 11\, 7:30 pm\n\n			\n			\n				\n					\n						 \n						Talmadge Recital Hall\, Bradley\n					\n				\n			\n			\n\n			\n			Join us as Hollins students perform scenes from the operatic repertoire.
X-ALT-DESC;FMTTYPE=text/html:<table border="0" cellpadding="0" cellspacing="0" class="twTable" style="color:rgb(0\, 0\, 0)\; font-family:helvetica\,arial\,sans-serif\; font-size:13.3333px\; line-height:1.4em\; width:715.2px">\n	<tbody>\n		<tr>\n			<td colspan="2">\n			<div>Opera Scenes Workshop</div>\n			</td>\n		</tr>\n		<tr>\n			<td colspan="2" style="width:715.2px">\n			<div>Sunday\, November 11\, 7:30 pm</div>\n\n			<div>\n			<table border="0" cellpadding="0" cellspacing="0" style="line-height:1.4em">\n				<tbody>\n					<tr>\n						<th style="text-align:left">&nbsp\;</th>\n						<td>Talmadge Recital Hall\, Bradley</td>\n					</tr>\n				</tbody>\n			</table>\n			</div>\n\n			<div>\n			<p>Join us as Hollins students perform scenes from the operatic repertoire.</p>\n			</div>\n			</td>\n		</tr>\n	</tbody>\n</table>\n
LOCATION:
UID:e.1293.15214
SEQUENCE:3
DTSTAMP:20260421T040222Z
URL:http://roanokechamber.chambermaster.com/events/details/opera-scenes-workshop-15214
END:VEVENT

END:VCALENDAR
