BEGIN:VCALENDAR
VERSION:2.0
PRODID:-//ChamberMaster//Event Calendar 2.0//EN
METHOD:PUBLISH
X-PUBLISHED-TTL:P3D
REFRESH-INTERVAL:P3D
CALSCALE:GREGORIAN
BEGIN:VEVENT
DTSTART:20161205T003000Z
DTEND:20161205T020000Z
X-MICROSOFT-CDO-ALLDAYEVENT:FALSE
SUMMARY:White Gift Service
DESCRIPTION:White Gift Service\n\nSunday\, December 4\, 7:30 pm\n\nduPont Chapel\n\n\n\nThe White Gift Service is a beloved Hollins University tradition celebrating Advent and Christmas through music\, scripture readings\, and dance from our faculty\, staff\, and students\, as well as familiar congregational carols. It features the Hollins University Concert Choir\, Chamber Choir\, and Talmadge Singers\, and the Divine in Motion Praise Dance Team. Also included are guest performances on the carillon\, organ\, and by the Roanoke Chamber Brass. An offering is collected to benefit ministries through the Hollins University Chapel.
X-ALT-DESC;FMTTYPE=text/html:White Gift Service<br />\nSunday\, December 4\, 7:30 pm<br />\nduPont Chapel<br />\n<br />\nThe White Gift Service is a beloved Hollins University tradition celebrating Advent and Christmas through music\, scripture readings\, and dance from our faculty\, staff\, and students\, as well as familiar congregational carols. It features the Hollins University Concert Choir\, Chamber Choir\, and Talmadge Singers\, and the Divine in Motion Praise Dance Team. Also included are guest performances on the carillon\, organ\, and by the Roanoke Chamber Brass. An offering is collected to benefit ministries through the Hollins University Chapel.
LOCATION:
UID:e.1293.7012
SEQUENCE:3
DTSTAMP:20260422T002252Z
URL:http://roanokechamber.chambermaster.com/events/details/white-gift-service-7012
END:VEVENT

END:VCALENDAR
